BEGIN:VCALENDAR
VERSION:2.0
PRODID:-//Wirtschaftsinitiative Flughafenregion Brandenburg - ECPv6.15.20//NONSGML v1.0//EN
CALSCALE:GREGORIAN
METHOD:PUBLISH
X-ORIGINAL-URL:https://wfb-brandenburg.de
X-WR-CALDESC:Veranstaltungen für Wirtschaftsinitiative Flughafenregion Brandenburg
REFRESH-INTERVAL;VALUE=DURATION:PT1H
X-Robots-Tag:noindex
X-PUBLISHED-TTL:PT1H
BEGIN:VTIMEZONE
TZID:Europe/Berlin
BEGIN:DAYLIGHT
TZOFFSETFROM:+0100
TZOFFSETTO:+0200
TZNAME:CEST
DTSTART:20220327T010000
END:DAYLIGHT
BEGIN:STANDARD
TZOFFSETFROM:+0200
TZOFFSETTO:+0100
TZNAME:CET
DTSTART:20221030T010000
END:STANDARD
BEGIN:DAYLIGHT
TZOFFSETFROM:+0100
TZOFFSETTO:+0200
TZNAME:CEST
DTSTART:20230326T010000
END:DAYLIGHT
BEGIN:STANDARD
TZOFFSETFROM:+0200
TZOFFSETTO:+0100
TZNAME:CET
DTSTART:20231029T010000
END:STANDARD
BEGIN:DAYLIGHT
TZOFFSETFROM:+0100
TZOFFSETTO:+0200
TZNAME:CEST
DTSTART:20240331T010000
END:DAYLIGHT
BEGIN:STANDARD
TZOFFSETFROM:+0200
TZOFFSETTO:+0100
TZNAME:CET
DTSTART:20241027T010000
END:STANDARD
END:VTIMEZONE
BEGIN:VEVENT
DTSTART;TZID=Europe/Berlin:20231004T180000
DTEND;TZID=Europe/Berlin:20231004T200000
DTSTAMP:20260422T121718
CREATED:20230920T153307Z
LAST-MODIFIED:20230920T153413Z
UID:10000005-1696442400-1696449600@wfb-brandenburg.de
SUMMARY:Gewerbestammtisch Schönefeld
DESCRIPTION:Gewerbestammtisch Schönefeld am 04.10.23\, 18:00 – 20:00 Uhr (freies Netzwerken im Anschluss)  \nImpulsthema: Energiewende ist machbar! – Ohne Bullshit\, aber mit Bingo \neine Kooperation des Schönefelder Gewerbeverein e.V. mit dem Unternehmerverband Brandenburg-Berlin e.V. \npräsentiert von Guido Körber \nUnternehmer im Bereich Industrieelektronik \nstelv. Vorsitzender der Kommission für Energie und nachhaltige Wirtschaft im BVMW \nThemenbeauftragter Energiepolitik der Piratenpartei Deutschland \nLaut Stammtischrunden kostet uns die Energiewende die Wettbewerbsfähigkeit und bringt den Untergang des Abendlandes. Aber wie sehen denn die Zahlen wirklich aus? Was kostet eine Energiewende und geht das überhaupt?
URL:https://wfb-brandenburg.de/termin/gewerbestammtisch-schoenefeld-2/
LOCATION:Landebahn 3.0\, Wiesenweg 1\, Schönefeld\, 12529\, Deutschland
ATTACH;FMTTYPE=image/jpeg:https://wfb-brandenburg.de/wp-content/uploads/2023/05/Titelbild-1.jpg
ORGANIZER;CN="Wirtschaftsinitiative Flughafenregion Brandenburg":MAILTO:post@wfb-brandenburg.de
END:VEVENT
END:VCALENDAR