BEGIN:VCALENDAR
VERSION:2.0
PRODID:-//Wirtschaftsinitiative Flughafenregion Brandenburg - ECPv6.15.20//NONSGML v1.0//EN
CALSCALE:GREGORIAN
METHOD:PUBLISH
X-ORIGINAL-URL:https://wfb-brandenburg.de
X-WR-CALDESC:Veranstaltungen für Wirtschaftsinitiative Flughafenregion Brandenburg
REFRESH-INTERVAL;VALUE=DURATION:PT1H
X-Robots-Tag:noindex
X-PUBLISHED-TTL:PT1H
BEGIN:VTIMEZONE
TZID:Europe/Berlin
BEGIN:DAYLIGHT
TZOFFSETFROM:+0100
TZOFFSETTO:+0200
TZNAME:CEST
DTSTART:20250330T010000
END:DAYLIGHT
BEGIN:STANDARD
TZOFFSETFROM:+0200
TZOFFSETTO:+0100
TZNAME:CET
DTSTART:20251026T010000
END:STANDARD
BEGIN:DAYLIGHT
TZOFFSETFROM:+0100
TZOFFSETTO:+0200
TZNAME:CEST
DTSTART:20260329T010000
END:DAYLIGHT
BEGIN:STANDARD
TZOFFSETFROM:+0200
TZOFFSETTO:+0100
TZNAME:CET
DTSTART:20261025T010000
END:STANDARD
BEGIN:DAYLIGHT
TZOFFSETFROM:+0100
TZOFFSETTO:+0200
TZNAME:CEST
DTSTART:20270328T010000
END:DAYLIGHT
BEGIN:STANDARD
TZOFFSETFROM:+0200
TZOFFSETTO:+0100
TZNAME:CET
DTSTART:20271031T010000
END:STANDARD
END:VTIMEZONE
BEGIN:VEVENT
DTSTART;TZID=Europe/Berlin:20260318T180000
DTEND;TZID=Europe/Berlin:20260318T210000
DTSTAMP:20260425T163946
CREATED:20260303T164515Z
LAST-MODIFIED:20260303T164515Z
UID:10000468-1773856800-1773867600@wfb-brandenburg.de
SUMMARY:MHWK-Stammtisch
DESCRIPTION:MHWK-Stammtisch \n🤝 In Kooperation mit dem Marzahn-Hellersdorfer Wirtschaftskreis e.V. (MHWK) informieren wir über folgende Veranstaltung: \n\n➡ Jetzt informieren & anmelden
URL:https://wfb-brandenburg.de/termin/mhwk-stammtisch-03-26/
LOCATION:LUMO Nahbar Berlin\, Blumberger Damm 2 F\, Berlin\, Berlin\, 12683\, Germany
END:VEVENT
END:VCALENDAR