BEGIN:VCALENDAR
VERSION:2.0
PRODID:-//Wirtschaftsinitiative Flughafenregion Brandenburg - ECPv6.15.20//NONSGML v1.0//EN
CALSCALE:GREGORIAN
METHOD:PUBLISH
X-ORIGINAL-URL:https://wfb-brandenburg.de
X-WR-CALDESC:Veranstaltungen für Wirtschaftsinitiative Flughafenregion Brandenburg
REFRESH-INTERVAL;VALUE=DURATION:PT1H
X-Robots-Tag:noindex
X-PUBLISHED-TTL:PT1H
BEGIN:VTIMEZONE
TZID:Europe/Berlin
BEGIN:DAYLIGHT
TZOFFSETFROM:+0100
TZOFFSETTO:+0200
TZNAME:CEST
DTSTART:20230326T010000
END:DAYLIGHT
BEGIN:STANDARD
TZOFFSETFROM:+0200
TZOFFSETTO:+0100
TZNAME:CET
DTSTART:20231029T010000
END:STANDARD
BEGIN:DAYLIGHT
TZOFFSETFROM:+0100
TZOFFSETTO:+0200
TZNAME:CEST
DTSTART:20240331T010000
END:DAYLIGHT
BEGIN:STANDARD
TZOFFSETFROM:+0200
TZOFFSETTO:+0100
TZNAME:CET
DTSTART:20241027T010000
END:STANDARD
BEGIN:DAYLIGHT
TZOFFSETFROM:+0100
TZOFFSETTO:+0200
TZNAME:CEST
DTSTART:20250330T010000
END:DAYLIGHT
BEGIN:STANDARD
TZOFFSETFROM:+0200
TZOFFSETTO:+0100
TZNAME:CET
DTSTART:20251026T010000
END:STANDARD
END:VTIMEZONE
BEGIN:VEVENT
DTSTART;TZID=Europe/Berlin:20240830T140000
DTEND;TZID=Europe/Berlin:20240831T140000
DTSTAMP:20260420T000012
CREATED:20240724T213008Z
LAST-MODIFIED:20240828T123831Z
UID:10000324-1725026400-1725112800@wfb-brandenburg.de
SUMMARY:Machandeltal im Fläming - Das 24-Stunden-Event des Jahres
DESCRIPTION:ABGESAGT / VERSCHOBEN -> INFOS FOLGEN!!! \n  \nDas Machandeltal kann überall sein. Dazu Dirk Zöllner: \n“MACHANDELTAL SESSIONS NR. 1: Das Machandeltal ist ein schöner Moment. Eine nachhaltige Begegnung an einem magischen Ort. In Erinnerung an den „Sommer im Machandeltal“\, der 2022 mit zehn Konzerten auf Rügen zu erleben war. Ein besonderes Erlebnis\, von dem alle\, die dabei waren\, immer wieder ins Schwärmen geraten. Diesmal werden Karl Neukauf (die 3HIGHligen\, André Herzberg)\, Tino Eisbrenner\, Martin Goldenbaum (Brenner) und DIE ZÖLLNER im Trio Infernale für die Musik sorgen.” \n\nIm beschaulichen Fröhden\, einem Ortsteil von Jüterbog vor den Toren Berlins\, treffen wir uns auf Manulitas Hof am 30.08. ab 14:00  Uhr. Für Kategorie 1: Wer mit Wohnwagen\, Wohnmobil oder Zelt anreist\, wird gebeten\, bis 13:00 Uhr zu erscheinen\, damit alle Plätze in Ruhe zugewiesen werden können. Autoschläfer oder jene\, die einen Dachboden mit Luftmatratze und Schlafsack nutzen möchten\, können auch später anreisen. \nDie Preise für Kategorie 1 beinhalten: \n\nein Begrüßungsgetränk\nFührungen durch den Garten\, über den Hof\, durch den Hofladen und das Café\ndie Speisen aus der regionalen Küche und einige Getränke (Wein rot & weiß\, Weinschorle daraus\, Wasser & Radeberger Bier)\nein Konzert mit dem legendären Trio Infernale / Die Zöllner ab ca. 18:00 Uhr und einen Auftritt am Folgetag (am Vormittag)\neinen Auftritt von Karl Neukauf davor oder danach und am Folgetag (am Vormittag)\neinen Auftritt von Martin Goldenbaum davor oder danach und am Folgetag (am Vormittag)\nAuftritte von Tino Eisbrenner und ein Zusammenspiel mit anderen\, das so einmalig sein dürfte\neinen gemeinsamen Abend-Ausklang am 30.08. ohne Blick auf die Uhr\ndie Nutzung der sanitären Anlagen und vieler kleiner Gesprächsinseln in Hof und Garten\nfür Übernachtende ist der Stell -oder Schlafplatz (Zelt\, Wohnwagen\, Wohnmobil\, Dachbodenschlafplatz) enthalten\, sowie ein Frühstück und ein musikalischer Ausklang zum Abschied (wer nach dem Frühstück noch weiter klönen möchte\, kann das reguläre Angebot des Cafés gern nutzen)\n\nKategorie 2: \n\nwie Kategorie 1\, aber nur für den 30.08.\nohne Stell -oder Schlafplatz\, ohne Frühstück am 31.08.\, ohne Musikprogramm am 31.08.\n\nKategorie 3: \n\nreines Musikticket\, nutzbar für die komplette Zeit (d.h.: keine anderweitige Platznutzung\, keine Inklusivleistungen\, keine Speisen / kein Frühstück\, keine Übernachtung an und auf dem Hof)\nnach Reservierung folgt eine Rechnung per Mail\, die ausschließlich mit Paypal bezahlt werden kann\n\nUm alles gut vorbereiten zu können und eine intime Atmosphäre zu wahren\, ist die Anzahl der Gäste auf ca. 100 begrenzt und die Buchungsphase endet am 25.08.\, 00:00 Uhr. Die Preise haben unterschiedliche Mwst.-Sätze. Die Übersicht inkl. Mwst.: \n\nKategorie 1 = 142\,80 €\nKategorie 2 = 95\,20 €\nKategorie 3 = 69\,00 €\n\nErgänzende Übernachtungsempfehlungen (bitte bei Bedarf dort selbst anfragen): \n\nhttp://www.bergschloesschen-jueterbog.de\nhttp://www.landhaus-heinrichshof.de\nhttp://www.hotel-goldener-stern.de\nhttp://www.goldener-anker-online.de\nhttp://www.fuchsbau-jueterbog.de\nhttp://www.ferienwohnung-liefeldt.de\nhttp://www.restaurant-esslust.de\nhttp://www.landgasthof-jueterbog.de\nhttp://www.flaeming-skate.de/de/service/unterkuenfte.php\n\nManulita & Heiko\, Johanna & Dirk\, André & Tobias\, Karl\, Martin & Tino und unser Koch Leon\, sowie alle Unterstützer und Mitwirkenden freuen sich auf Euch. \nKarl Neukauf: https://youtu.be/iqBQ4MISjXs \nMartin Goldenbaum: https://youtu.be/vqPL6vgMXBE \nTino Eisbrenner: https://youtu.be/dZf9hmVYxNY \n \n \nhttps://wfb-brandenburg.de/wp-content/uploads/2024/07/WhatsApp-Video-2024-07-24-um-20.45.20_83ea96f7.mp4\n  \nhttps://wfb-brandenburg.de/wp-content/uploads/2024/07/Trio-Infernale-Teaser.mp4\n 
URL:https://wfb-brandenburg.de/termin/machandeltal-im-flaeming/
LOCATION:Manulitas Hof\, Fröhdener Siedlung 20\, Jüterbog – OT Fröhden\, Brandenburg\, 14913\, Deutschland
ORGANIZER;CN="Wirtschaftsinitiative Flughafenregion Brandenburg":MAILTO:post@wfb-brandenburg.de
END:VEVENT
END:VCALENDAR